BEGIN:VCALENDAR
PRODID:-//eluceo/ical//2.0/EN
VERSION:2.0
CALSCALE:GREGORIAN
BEGIN:VEVENT
UID:df7247f0ccb5a302f90b45affeb2ac95
DTSTAMP:20260422T192918Z
SUMMARY:Estate Planning A to Z\, a talk by Attorney William H. Barry III
DESCRIPTION:Jewish Federation of New Hampshire\nCommunity Calendar\nhttps:/
 /jewishnh.org/community-calendar/estate-planning-a-to-z-a-talk-by-attorney
 -william-h-barry-iii-1570687772\n\nA lively opportunity to learn about des
 igning an estate plan regardless of your age. Topics to be covered include
  Last Will and Testaments\, Revocable Trusts\, Durable Powers of Attorney\
 , Healthcare Powers of Attorney\, Nomination of Guardianships and HIPPA Re
 leases. Learn about the benefits and burdens of probate\, the pitfalls of 
 dying intestate (i.e. without a will)\, and the need for young adults (18 
 to 25) to have their own estate planning package.
DTSTART;TZID=America/New_York:20191117T093000
DTEND;TZID=America/New_York:20191117T113000
END:VEVENT
END:VCALENDAR
