BEGIN:VCALENDAR
PRODID:-//eluceo/ical//2.0/EN
VERSION:2.0
CALSCALE:GREGORIAN
BEGIN:VEVENT
UID:dbd317d3027481a0d50ff964c223fd3a
DTSTAMP:20260422T111156Z
SUMMARY:ETZ  HAYIM  HOSTS  SHAVUOT  TEACH-IN
DESCRIPTION:Jewish Federation of New Hampshire\nCommunity Calendar\nhttps:/
 /jewishnh.org/community-calendar/etz--hayim--hosts--shavuot--teach-in-1617
 909463\n\nOn Sunday evening\, May 16 Etz Hayim will have three leaders tea
 ching and furthering Jewish practice. The night will include a segment led
  by Steve Soreff on Jewish history in NH. Jay Madnick will show us how to 
 put together a power point presentation\, specifically to use in leading a
  synagogue service. And Rabbi Peter Levy will be teaching about Jewish cus
 toms and practices. For those who would like to participate\, you may cont
 act office@etzhayim.org for a Zoom link. This event will begin at ...
DTSTART;TZID=America/New_York:20210516T190000
DTEND;TZID=America/New_York:20210516T201500
END:VEVENT
END:VCALENDAR
