BEGIN:VCALENDAR
PRODID:-//eluceo/ical//2.0/EN
VERSION:2.0
CALSCALE:GREGORIAN
BEGIN:VEVENT
UID:22bd3072d42a21c8fa9b0836bc279ad0
DTSTAMP:20260423T090607Z
SUMMARY:Etz Hayim Celebrates Shavuot
DESCRIPTION:Jewish Federation of New Hampshire\nCommunity Calendar\nhttps:/
 /jewishnh.org/community-calendar/etz-hayim-celebrates-shavuot-1683564169\n
 \nETZ HAYIM SYNAGOGUE CELEBRATES SHAVUOT\n\nThursday\, May 25th 7:00 PM In
  celebration of the Jewish people receiving the Torah\, we will be having 
 a series of presentations on Shavuot. Rabbi Peter Levy will be speaking ab
 out why we traditionally eat dairy foods (non-meat) on Shavuot. Amy Dattne
 r-Levy\, our cantorial soloist\, will talk about the Book of Ruth. A prese
 ntation on the history and impact of Jewish humor will be led by Steve Sor
 eff (guaranteed to be punny\, maybe even funny). There will ...
DTSTART;TZID=America/New_York:20230525T190000
DTEND;TZID=America/New_York:20230525T210000
END:VEVENT
END:VCALENDAR
