BEGIN:VCALENDAR
PRODID:-//eluceo/ical//2.0/EN
VERSION:2.0
CALSCALE:GREGORIAN
BEGIN:VEVENT
UID:9b9d4b7d10e7354e405400981bdd6cb8
DTSTAMP:20260423T102342Z
SUMMARY:Etz Hayim Community Seder
DESCRIPTION:Jewish Federation of New Hampshire\nCommunity Calendar\nhttps:/
 /jewishnh.org/community-calendar/etz-hayim-community-seder-1678112753\n\nA
  kosher meal catered by Levine's Kosher Market will be served including ro
 ast chicken\, kugel\, carrot tzimmes\, chicken soup with matzoh balls\, ge
 filte fish\, matzoh and all the trimmings. Cost is $44 for adult members\,
  $49 for non-members\, and $29 for children under 10. For more information
  contact office@etzhayim.org or call 603 432-0004. Reservations must be ma
 de by 3/26/23.
DTSTART;TZID=America/New_York:20230406T180000
DTEND;TZID=America/New_York:20230406T200000
END:VEVENT
END:VCALENDAR
