BEGIN:VCALENDAR
PRODID:-//eluceo/ical//2.0/EN
VERSION:2.0
CALSCALE:GREGORIAN
BEGIN:VEVENT
UID:43f1681731b8b78134bc80dffd790a8b
DTSTAMP:20260423T204911Z
SUMMARY:Etz Hayim FAB Sisterhood Luncheon
DESCRIPTION:Jewish Federation of New Hampshire\nCommunity Calendar\nhttps:/
 /jewishnh.org/community-calendar/etz-hayim-fab-sisterhood-luncheon-1668176
 056\n\nThe Sisterhood will have a potluck luncheon and brief meeting to pl
 an events. If you will be attending\, please complete the Sign Up Genius. 
 https://www.signupgenius.com/go/805094cafa62ca31-sisterhood
DTSTART;TZID=America/New_York:20221113T120000
DTEND;TZID=America/New_York:20221113T140000
END:VEVENT
END:VCALENDAR
