BEGIN:VCALENDAR
PRODID:-//eluceo/ical//2.0/EN
VERSION:2.0
CALSCALE:GREGORIAN
BEGIN:VEVENT
UID:b1478c9fed58bd41fc8a7f0217a516f9
DTSTAMP:20260422T043554Z
SUMMARY:Etz Hayim Synagogue - 30th Anniversary Celebration
DESCRIPTION:Jewish Federation of New Hampshire\nCommunity Calendar\nhttps:/
 /jewishnh.org/community-calendar/etz-hayim-synagogue---30th-anniversary-ce
 lebration-1664459423\n\nJoin us to celebrate our 30th anniversary celebrat
 ion on Sat November 12 at 7:00 PM with food by Amphora\, cash bar\, music 
 by DJ Amy\, dancing\, photobooth\, silent auction. Tickets are $54/pp by c
 heck to Etz Hayim Synagogue\, 1-1/2 Hood Road\, Derry\, NH 03038\; or $56/
 pp by PayPal or credit card at www.etzhayim.org/30thAnniversary.
DTSTART;TZID=America/New_York:20221112T190000
DTEND;TZID=America/New_York:20221112T223000
END:VEVENT
END:VCALENDAR
