BEGIN:VCALENDAR
PRODID:-//eluceo/ical//2.0/EN
VERSION:2.0
CALSCALE:GREGORIAN
BEGIN:VEVENT
UID:266836f1b836cbf9220fc9aef182cc6e
DTSTAMP:20260423T204851Z
SUMMARY:Etz Hayim Synagogue - New Members in the Sukkah
DESCRIPTION:Jewish Federation of New Hampshire\nCommunity Calendar\nhttps:/
 /jewishnh.org/community-calendar/etz-hayim-synagogue---new-members-in-the-
 sukkah-1663859512\n\nPot Luck Supper in the Sukkah and New Member Shabbat 
 for new and prospective members.
DTSTART;TZID=America/New_York:20221014T180000
DTEND;TZID=America/New_York:20221014T204500
END:VEVENT
END:VCALENDAR
