BEGIN:VCALENDAR
PRODID:-//eluceo/ical//2.0/EN
VERSION:2.0
CALSCALE:GREGORIAN
BEGIN:VEVENT
UID:28bca2914517e1cc16e424496b8e8ecd
DTSTAMP:20260423T114939Z
SUMMARY:ETZ HAYIM SYNAGOGUE - Presents Anne Frank - To Be Free\, To Be Myse
 lf
DESCRIPTION:Jewish Federation of New Hampshire\nCommunity Calendar\nhttps:/
 /jewishnh.org/community-calendar/etz-hayim-synagogue---presents-anne-frank
 ---to-be-free-to-be-myself-1706875546\n\nTom White\, Coordinator of Educat
 ional Outreach\, Cohen Center for Holocaust and Genocide Studies.  Who was
  Anne Frank?  This presentation frames Anne Frank’s experiences as one o
 f growth and introspection through her diary.  How does Anne's voice still
  remain\, as she hoped\, "useful" as we face the challenges of today?  How
  do we resist evil while maintaining our moral core?  This presentation al
 so traces the fate of those hiding in the Secret Annex. How can we draw on
  the example of the...
DTSTART;TZID=America/New_York:20240314T190000
DTEND;TZID=America/New_York:20240314T200000
END:VEVENT
END:VCALENDAR
