BEGIN:VCALENDAR
PRODID:-//eluceo/ical//2.0/EN
VERSION:2.0
CALSCALE:GREGORIAN
BEGIN:VEVENT
UID:c1db81891df532df556f6bbeee06c0f3
DTSTAMP:20260423T204818Z
SUMMARY:Etz Hayim Synagogue - Sunday Camp Open House - Derry\, NH
DESCRIPTION:Jewish Federation of New Hampshire\nCommunity Calendar\nhttps:/
 /jewishnh.org/community-calendar/etz-hayim-synagogue---sunday-camp-open-ho
 use---derry-nh-1556455716\n\nJoin us for an Ice Cream Social and Open Hous
 e at Etz Hayim Synagogue on Sunday\, May 19th from 12:30 - 2:00. Our Sunda
 y Camp program is geared toward introducing children ages 4 to 6 years old
  and their parents to Jewish culture\, holidays and the Hebrew language. P
 lease RSVP to office@etzhayim.org or 432-0004 by May 16th. Etz Hayim Synag
 ogue is located at 1-1/2 Hood Road\, Derry\, NH.
DTSTART;TZID=America/New_York:20190519T123000
DTEND;TZID=America/New_York:20190519T140000
END:VEVENT
END:VCALENDAR
