BEGIN:VCALENDAR
PRODID:-//eluceo/ical//2.0/EN
VERSION:2.0
CALSCALE:GREGORIAN
BEGIN:VEVENT
UID:e04babdac56890fc0c224e09939284cf
DTSTAMP:20260423T234458Z
SUMMARY:ETZ HAYIM SYNAGOGUE  Presents\, Megillah on the Roof
DESCRIPTION:Jewish Federation of New Hampshire\nCommunity Calendar\nhttps:/
 /jewishnh.org/community-calendar/etz-hayim-synagogue--presents-megillah-on
 -the-roof-1707138921\n\nThe Etz Hayim Never Ready for Prime Time Spielers 
 present a revival of: Megillah on the Roof (the Purim spiel that closed Et
 z Hayim down in March 2020\, or was that COVID?). The tale is as old as ti
 me.  We sing the melodies at the drop of a hamantaschen.  If you'd like to
  join our troupe\, please email Amy Dattner-Levy at adattne@gmail.com.  If
  you play piano\, that'll be a mitzvah. If you want to attend\, that'll be
  an honor.
DTSTART;TZID=America/New_York:20240323T190000
DTEND;TZID=America/New_York:20240323T210000
END:VEVENT
END:VCALENDAR
