BEGIN:VCALENDAR
PRODID:-//eluceo/ical//2.0/EN
VERSION:2.0
CALSCALE:GREGORIAN
BEGIN:VEVENT
UID:bf113670ad41f850492b3c7b23aea859
DTSTAMP:20260422T015110Z
SUMMARY:ETZ HAYIM SYNAGOGUE COMMUNITY BLOOD DRIVE
DESCRIPTION:Jewish Federation of New Hampshire\nCommunity Calendar\nhttps:/
 /jewishnh.org/community-calendar/etz-hayim-synagogue-community-blood-drive
 -1617812108\n\nIn June of 2017\, Beth Hudson\, a member of Etz Hayim Synag
 ogue\, received 64 units of blood after a life-threatening motorcycle acci
 dent.  To put that in perspective\, it is replacing all the blood in an av
 erage person 8 times. Many a nurse has told me that few people survive thi
 s quantity of transfusions.  With community blood donors like you\, I  sur
 vived AND thrived.  Donating blood is simple\, safe\, and a wonderful Mitz
 vah. Please make an appointment and save a life...you will be glad you did
 !\n
DTSTART;TZID=America/New_York:20210526T140000
DTEND;TZID=America/New_York:20210526T190000
END:VEVENT
END:VCALENDAR
