BEGIN:VCALENDAR
PRODID:-//eluceo/ical//2.0/EN
VERSION:2.0
CALSCALE:GREGORIAN
BEGIN:VEVENT
UID:a9f65d920dbffc6adfd072b17cb292fa
DTSTAMP:20260422T095056Z
SUMMARY:Etz Hayim Synagogue Family Chanukah Shabbat
DESCRIPTION:Jewish Federation of New Hampshire\nCommunity Calendar\nhttps:/
 /jewishnh.org/community-calendar/etz-hayim-synagogue-family-chanukah-shabb
 at-1668441702\n\nFamily Shabbat and Chanukah Celebration with lighting of 
 the candles for the 6th night. BYO menorah and candles.
DTSTART;TZID=America/New_York:20221223T191500
DTEND;TZID=America/New_York:20221223T211500
END:VEVENT
END:VCALENDAR
