BEGIN:VCALENDAR
PRODID:-//eluceo/ical//2.0/EN
VERSION:2.0
CALSCALE:GREGORIAN
BEGIN:VEVENT
UID:fab6993c5e4010af4831e64ec81d6da7
DTSTAMP:20260423T184942Z
SUMMARY:Etz Hayim Synagogue hosts Elder Fraud Program
DESCRIPTION:Jewish Federation of New Hampshire\nCommunity Calendar\nhttps:/
 /jewishnh.org/community-calendar/etz-hayim-synagogue-hosts-elder-fraud-pro
 gram-1698679709\n\nElder Fraud\, Special Agent\, Kimberly V. Blackwood\nFe
 deral Bureau of Investigation – Bedford Resident Agency. “A coordinate
 d law enforcement action aimed at those who prey on senior citizens has re
 sulted in charges against more than 250 subjects who collectively victimiz
 ed more than one million mostly elderly Americans\,” an article said. Sh
 e will talk about senior scams and how to prevent becoming a victim.\n\nAl
 l programs are held at Etz Hayim Synagogue\, 1 ½ Hood Road\, Derry\, NH..
 .
DTSTART;TZID=America/New_York:20231214T190000
DTEND;TZID=America/New_York:20231214T200000
END:VEVENT
END:VCALENDAR
