BEGIN:VCALENDAR
PRODID:-//eluceo/ical//2.0/EN
VERSION:2.0
CALSCALE:GREGORIAN
BEGIN:VEVENT
UID:33859958a64b0c9508c280465e63f0ef
DTSTAMP:20260423T132409Z
SUMMARY:Etz Hayim Synagogue Kosher Deli Night
DESCRIPTION:Jewish Federation of New Hampshire\nCommunity Calendar\nhttps:/
 /jewishnh.org/community-calendar/etz-hayim-synagogue-kosher-deli-night-170
 2389676\n\nEtz Hayim Synagogue Sisterhood and Men’s Group hosts Kosher D
 eli Night\nSaturday\, January 20 at 6:30 PM (snow date Sunday\, January 21
 ).  Every platter includes: corned beef\, pastrami\, chopped liver\, Jewis
 h rye bread\, knishe\, half sour pickle\, kishke\, potato salad\, cole sla
 w\, halvah.  Cost is $30/pp.  Tickets must be purchased in advance.  Visit
  www.etzhayim.org.
DTSTART;TZID=America/New_York:20240120T183000
DTEND;TZID=America/New_York:20240120T203000
END:VEVENT
END:VCALENDAR
