BEGIN:VCALENDAR
PRODID:-//eluceo/ical//2.0/EN
VERSION:2.0
CALSCALE:GREGORIAN
BEGIN:VEVENT
UID:5df1b7d4b1e50a38c21367a01867f7d0
DTSTAMP:20260424T072620Z
SUMMARY:Etz Hayim Synagogue Menorah Lighting
DESCRIPTION:Jewish Federation of New Hampshire\nCommunity Calendar\nhttps:/
 /jewishnh.org/community-calendar/etz-hayim-synagogue-menorah-lighting-1699
 123788\n\nJoin us at Etz Hayim Synagogue as we commemorate the victory of 
 the Maccabees.  On Friday\, December 8\, Etz Hayim Synagogue will be hosti
 ng a Second Night Chanukah menorah lighting\, pizza dinner and Family Shab
 bat Service.  Pizza dinner begins at 5:30 (RSVP is required - email Rabbi@
 etzhayim.org to reserve your space).  At 6:30\, we will light our giant ou
 tdoor menorah and sing Chanukah melodies led by Rabbi Levy and Amy.  Indoo
 r menorah lighting and Family Shabbat service follows at 7:15. ...
DTSTART;TZID=America/New_York:20231208T173000
DTEND;TZID=America/New_York:20231208T203000
END:VEVENT
END:VCALENDAR
