BEGIN:VCALENDAR
PRODID:-//eluceo/ical//2.0/EN
VERSION:2.0
CALSCALE:GREGORIAN
BEGIN:VEVENT
UID:0c0c48352e407ae89d756f77e637ed99
DTSTAMP:20260423T142710Z
SUMMARY:Etz Hayim Synagogue Presents  "To Tell The Truth" - Shushan Style
DESCRIPTION:Jewish Federation of New Hampshire\nCommunity Calendar\nhttps:/
 /jewishnh.org/community-calendar/etz-hayim-synagogue-presents--to-tell-the
 -truth---shushan-style-1675944167\n\nThe Etz Hayim Never Ready for Prime-T
 ime Players invites you to "To Tell the Emet (Truth)\, Shushan Version." U
 sing the format of the classic and present-day TV game show. For each segm
 ent\, a famous/infamous character from the story of Purim will be question
 ed along with two imposters. Audience members will interview and vote for 
 the real character. Between each segment\, we'll sing\, of course! The fre
 e performance takes place on Saturday\, March 11 at 7:00 PM at Etz Hayim 
 Synagogue\, 1-1/2 Hood...
DTSTART;TZID=America/New_York:20230311T190000
DTEND;TZID=America/New_York:20230311T210000
END:VEVENT
END:VCALENDAR
