BEGIN:VCALENDAR
PRODID:-//eluceo/ical//2.0/EN
VERSION:2.0
CALSCALE:GREGORIAN
BEGIN:VEVENT
UID:5a0c381d06e670c654ded5f45aa06e56
DTSTAMP:20260423T162313Z
SUMMARY:Etz Hayim Synagogue Religious School Open House
DESCRIPTION:Jewish Federation of New Hampshire\nCommunity Calendar\nhttps:/
 /jewishnh.org/community-calendar/etz-hayim-synagogue-religious-school-open
 -house-1657631186\n\nETZ HAYIM SYNAGOGUE RELIGIOUS SCHOOL\, 1-1/2 Hood Roa
 d\, Derry\, NH  03038\nwww.etzhayim.org/learn\n\nOPEN HOUSE AND ORIENTATIO
 N \nTUESDAY AUGUST 30 AT 6:00 PM\n\nSunday Camp (Ages 4-6) meets from 10:0
 0 a.m. to 12:00 p.m. one Sunday afternoon per month\, beg Sun 9/18/22.  Fr
 ee for new families!\nHigher Learning (Ages 7-18)  meets at 6:00 p.m.\, be
 ginning 9/6/22.\n\nTo register\, please visit www.etzhayim.org/learn\n\n \
 n
DTSTART;TZID=America/New_York:20220830T180000
DTEND;TZID=America/New_York:20220830T200000
END:VEVENT
END:VCALENDAR
