BEGIN:VCALENDAR
PRODID:-//eluceo/ical//2.0/EN
VERSION:2.0
CALSCALE:GREGORIAN
BEGIN:VEVENT
UID:73c99e3bea69a352a7d1fc23772edff3
DTSTAMP:20260423T084507Z
SUMMARY:Etz Hayim Synagogue Second Annual Blood Drive
DESCRIPTION:Jewish Federation of New Hampshire\nCommunity Calendar\nhttps:/
 /jewishnh.org/community-calendar/etz-hayim-synagogue-second-annual-blood-d
 rive-1680979634\n\nEtz Hayim will be holding its second annual blood drive
  on Wednesday\, May 31\, from 11 to 5. If you would like to donate\, pleas
 e go to RedCross.org and make an appointment. One blood donation can save 
 two lives\, and the NH supply is exceedingly low.
DTSTART;TZID=America/New_York:20230531T000000
DTEND;TZID=America/New_York:20230531T000000
END:VEVENT
END:VCALENDAR
