BEGIN:VCALENDAR
PRODID:-//eluceo/ical//2.0/EN
VERSION:2.0
CALSCALE:GREGORIAN
BEGIN:VEVENT
UID:9cac20cb2de7930ba723d9e4df4e375b
DTSTAMP:20260422T120627Z
SUMMARY:ETZ HAYIM SYNAGOGUE TO CELEBRATE 9 ADULT B’NAI MITZVAH
DESCRIPTION:Jewish Federation of New Hampshire\nCommunity Calendar\nhttps:/
 /jewishnh.org/community-calendar/etz-hayim-synagogue-to-celebrate-9-adult-
 bnai-mitzvah-1573422383\n\nA group of adults are finally embarking on a jo
 urney to celebrate their becoming B’nai Mitzvah. The students have been 
 reading\, learning and parsing the reading Miketz (מקץ) from the book o
 f Genesis. Please join us for this special celebration on Saturday\, Decem
 ber 28\, 2019 at 9:30 AM to witness this exceptional group of adults reded
 icating themselves to Judaism.
DTSTART;TZID=America/New_York:20191228T093000
DTEND;TZID=America/New_York:20191228T123000
END:VEVENT
END:VCALENDAR
