BEGIN:VCALENDAR
PRODID:-//eluceo/ical//2.0/EN
VERSION:2.0
CALSCALE:GREGORIAN
BEGIN:VEVENT
UID:a138521bc23e663f70676ff2f5e070ca
DTSTAMP:20260422T083701Z
SUMMARY:Etz Hayim’s  Shabbat on Pawtuckaway Lake
DESCRIPTION:Jewish Federation of New Hampshire\nCommunity Calendar\nhttps:/
 /jewishnh.org/community-calendar/etz-hayims--shabbat-on-pawtuckaway-lake-1
 681216772\n\n*Rescheduled from June 17th!\n\nJoin us Saturday Morning at 9
 :00 AM July 1\, 2023\, at the home of Peggy Tucker and Steve Soreff\, 32 D
 olloff Dam Road\, Nottingham\, NH 03290 as Etz Hayim Synagogue continues i
 ts tradition of Shabbat on Pawtuckaway Lake. There will be a Shabbat servi
 ce lakeside followed by kayaking and canoeing. Please\, bring your own kay
 ak and canoes. A limited number of kayaks and one canoe are available for 
 you to reserve. Also\, remember please bring a snack\, a life jacket and s
 ...
DTSTART;TZID=America/New_York:20230701T090000
DTEND;TZID=America/New_York:20230701T110000
END:VEVENT
END:VCALENDAR
