BEGIN:VCALENDAR
PRODID:-//eluceo/ical//2.0/EN
VERSION:2.0
CALSCALE:GREGORIAN
BEGIN:VEVENT
UID:8727a91f756315ed2c78cb05b4454b5c
DTSTAMP:20260422T132801Z
SUMMARY:Everything You've Always Wanted to Know about Israeli Elections!
DESCRIPTION:Jewish Federation of New Hampshire\nCommunity Calendar\nhttps:/
 /jewishnh.org/community-calendar/everything-youve-always-wanted-to-know-ab
 out-israeli-elections-1565279575\n\nA special "Lunch and Learn" program af
 ter Shabbat morning services (9:30AM) led by Rabbi Ira Korinow.\n\nSeptemb
 er 17 is Election Day in Israel\, and the discussion will be lively! Topic
 s to include: How many political parties exist in Israel? How do Israelis 
 vote for their next Prime Minister? How do Israeli elections differ from A
 merican ones? What are the issues being discussed in the Israeli campaigns
 ?\n\nPlease RSVP to the temple office (603-436-5301) so we can plan for re
 freshments.
DTSTART;TZID=America/New_York:20190907T120000
DTEND;TZID=America/New_York:20190907T130000
END:VEVENT
END:VCALENDAR
