BEGIN:VCALENDAR
PRODID:-//eluceo/ical//2.0/EN
VERSION:2.0
CALSCALE:GREGORIAN
BEGIN:VEVENT
UID:18b4a6123133ecb78f15b34558625b59
DTSTAMP:20260423T032914Z
SUMMARY:CANCELLED: Evolve Hadassah Brunch
DESCRIPTION:Jewish Federation of New Hampshire\nCommunity Calendar\nhttps:/
 /jewishnh.org/community-calendar/evolve-hadassah-brunch\n\nPlease note\, t
 his event has been CANCELLED.\n\nThe Manchester Chapter of Hadassah invite
 s you to join them for an Evolve brunch. Evolve is Hassah's Young Women's
  Network!\n\nLearn about the history of Hadassah in New Hampshire and Hada
 ssah's newest branch Evolve! Meet Hadassah and Evolve leadership and make 
 connections with other New Hampshire woman 20-50!\n\nRegister online: htt
 ps://forms.gle/MmkiPWHmCaNaMhUh9\n\nEvolve Hadassah empowers the next gene
 ration of Hadassah women to make an imp...
DTSTART;TZID=America/New_York:20220626T110000
DTEND;TZID=America/New_York:20220626T130000
END:VEVENT
END:VCALENDAR
