BEGIN:VCALENDAR
PRODID:-//eluceo/ical//2.0/EN
VERSION:2.0
CALSCALE:GREGORIAN
BEGIN:VEVENT
UID:dca4bec5791c3437200fbd07a42932ce
DTSTAMP:20260422T110941Z
SUMMARY:“Exodus – history\, fiction\, or some place in between?”
DESCRIPTION:Jewish Federation of New Hampshire\nCommunity Calendar\nhttps:/
 /jewishnh.org/community-calendar/exodus--history-fiction-or-some-place-in-
 between-1574729386\n\nIsabel and Douglas Danforth will be looking at Torah
  and archeological and historical evidence\, can we conclude that the Exod
 us that we celebrate at Passover was an historical event or not?Much of ou
 r discussion does come from the ideas of Richard Elliot Friedman’s recen
 t book titled “The Exodus”. We will discuss some of his evidence and s
 ee if we can agree or not with his conclusions.
DTSTART;TZID=America/New_York:20200517T100000
DTEND;TZID=America/New_York:20200517T120000
END:VEVENT
END:VCALENDAR
