BEGIN:VCALENDAR
PRODID:-//eluceo/ical//2.0/EN
VERSION:2.0
CALSCALE:GREGORIAN
BEGIN:VEVENT
UID:756700abe1354447493c3ba02653a112
DTSTAMP:20260422T111001Z
SUMMARY:“Exodus – history\, fiction\, or some place in between?”
DESCRIPTION:Jewish Federation of New Hampshire\nCommunity Calendar\nhttps:/
 /jewishnh.org/community-calendar/exodus--history-fiction-or-some-place-in-
 between-1615428067\n\nThis is a Zoom event.  To get the zoom link EMAIL of
 fice@etzhayim.org
DTSTART;TZID=America/New_York:20210321T100000
DTEND;TZID=America/New_York:20210321T120000
END:VEVENT
END:VCALENDAR
