BEGIN:VCALENDAR
PRODID:-//eluceo/ical//2.0/EN
VERSION:2.0
CALSCALE:GREGORIAN
BEGIN:VEVENT
UID:bb0d8fa2a74c68a351edfd9406019e4e
DTSTAMP:20260423T011538Z
SUMMARY:Fair Trade Chocolate Coffee House and Open Mic
DESCRIPTION:Jewish Federation of New Hampshire\nCommunity Calendar\nhttps:/
 /jewishnh.org/community-calendar/fair-trade-chocolate-coffee-house-and-ope
 n-mic\n\nFor more information visit the Temple Beth Abraham website
DTSTART;TZID=America/New_York:20230226T190000
DTEND;TZID=America/New_York:20230226T210000
END:VEVENT
END:VCALENDAR
