BEGIN:VCALENDAR
PRODID:-//eluceo/ical//2.0/EN
VERSION:2.0
CALSCALE:GREGORIAN
BEGIN:VEVENT
UID:db23d2d7b50ecca25efb9e02d0e37c28
DTSTAMP:20260423T143542Z
SUMMARY:Fair Trade Coffee House
DESCRIPTION:Jewish Federation of New Hampshire\nCommunity Calendar\nhttps:/
 /jewishnh.org/community-calendar/fair-trade-coffee-house-1579630315\n\nCho
 colate and Coffee: What could be better?\n\nCome to our Chocolate Cafe for
  delicious chocolate desserts (dairy) and samplings of coffees and teas al
 l made from fair trade products.\n\nEnjoy an evening listening to our loca
 l talent perform.\n\nProgram will begin with Havdalah and a brief presenta
 tion on fair trade.\n\nPresented by the TBA Sisterhood.\n\nAll are welcome
  to attend\, but the talent show is limited to teenagers and adults. Pleas
 e email marshafeder@gmail.com to volunteer your tal...
DTSTART;TZID=America/New_York:20200201T190000
DTEND;TZID=America/New_York:20200201T210000
END:VEVENT
END:VCALENDAR
