BEGIN:VCALENDAR
PRODID:-//eluceo/ical//2.0/EN
VERSION:2.0
CALSCALE:GREGORIAN
BEGIN:VEVENT
UID:8d978a49a0956ae0697a678025eac2a7
DTSTAMP:20260422T234219Z
SUMMARY:Faith-Based Conversation on Race In NH
DESCRIPTION:Jewish Federation of New Hampshire\nCommunity Calendar\nhttps:/
 /jewishnh.org/community-calendar/faith-based-conversation-on-race-in-nh-16
 06234364\n\nMembers of the Jewish\, Catholic\, and Protestent Faith Commun
 ities (including Rabbi Beth Davidson) invite you to a conversation about o
 ur faiths and race relations.  A number of community leaders have been wor
 king on this project\, including\, but not limited to\, Reverend Jason Wel
 ls of the New Hampshire Council of Churches\, Attorney Bob Dunn of the Dio
 cese of Manchester\, Susan Gabert\, Assistant Dean of Students/Director of
  Campus Ministry at St. Anselm's College\, Peter McBride\, Director\, Cohe
 n...
DTSTART;TZID=America/New_York:20201203T180000
DTEND;TZID=America/New_York:20201203T193000
END:VEVENT
END:VCALENDAR
