BEGIN:VCALENDAR
PRODID:-//eluceo/ical//2.0/EN
VERSION:2.0
CALSCALE:GREGORIAN
BEGIN:VEVENT
UID:f902e261636706691e3cff6a29afcd51
DTSTAMP:20260423T102412Z
SUMMARY:Faith-Based Conversation on the Govenor's Covid Response Team Repor
 t
DESCRIPTION:Jewish Federation of New Hampshire\nCommunity Calendar\nhttps:/
 /jewishnh.org/community-calendar/faith-based-conversation-on-the-govenors-
 covid-response-team-report-1606853927\n\nThis is a free Zoom community eve
 nt.\nWe will hear from at least two members of the Govenor's COVID-19 Equi
 ty Response Team:  Kirsten Durzy\, MPH\, public health evaluation expert\,
  Division of Public Health Services\, DHHS\, and Dottie Morris\, PhD\, Ass
 ociate Vice President for Diversity and Inclusion\, Keene State College\, 
 about the disparite impact that the pandemic has had on different communit
 ies in NH.  Our ensuring conversation will be moderated by Peter McBride\,
  Director of the Cohen Center...
DTSTART;TZID=America/New_York:20210107T180000
DTEND;TZID=America/New_York:20210107T193000
END:VEVENT
END:VCALENDAR
