BEGIN:VCALENDAR
PRODID:-//eluceo/ical//2.0/EN
VERSION:2.0
CALSCALE:GREGORIAN
BEGIN:VEVENT
UID:e207f21a3b7aa840a49c1f65283f19bb
DTSTAMP:20260422T150036Z
SUMMARY:Family Chanukah Service at Temple Adath Yeshurun
DESCRIPTION:Jewish Federation of New Hampshire\nCommunity Calendar\nhttps:/
 /jewishnh.org/community-calendar/family-chanukah-service-at-temple-adath-y
 eshurun-1560685579\n\nFamily Chanukah Service at Temple Adath Yeshurun
DTSTART;TZID=America/New_York:20191227T180000
DTEND;TZID=America/New_York:20191227T200000
END:VEVENT
END:VCALENDAR
