BEGIN:VCALENDAR
PRODID:-//eluceo/ical//2.0/EN
VERSION:2.0
CALSCALE:GREGORIAN
BEGIN:VEVENT
UID:69db9924e7b3afc7e347b1b2f95c42fe
DTSTAMP:20260423T165500Z
SUMMARY:Family Concert and Art Making | Sing\, Listen\, and Create Together
DESCRIPTION:Jewish Federation of New Hampshire\nCommunity Calendar\nhttps:/
 /jewishnh.org/community-calendar/family-concert-and-art-making--sing-liste
 n-and-create-together-1776890973\n\nJoin us for a lively\, hands-on family
  program featuring a participatory concert with Jordan Wax and an art-maki
 ng workshop with illustrator Madison Safer for kids and caregivers. No Yid
 dish required—just curiosity and creativity!\n\nWax will perform bilingu
 al Yiddish/English songs from his album Pantakozak and Other New Yiddish S
 ongs for Kids\, with playful\, kid-generated tunes about polar bears\, myt
 hical creatures\, and Jewish history. The concert is part folklore\, part 
 rhythm\, and full of o...
DTSTART;TZID=America/New_York:20260426T140000
DTEND;TZID=America/New_York:20260426T170000
END:VEVENT
END:VCALENDAR
