BEGIN:VCALENDAR
PRODID:-//eluceo/ical//2.0/EN
VERSION:2.0
CALSCALE:GREGORIAN
BEGIN:VEVENT
UID:1572abec93d4a895412b764353a633e1
DTSTAMP:20260423T000916Z
SUMMARY:Family Purim Carnival at Temple Israel Portsmouth
DESCRIPTION:Jewish Federation of New Hampshire\nCommunity Calendar\nhttps:/
 /jewishnh.org/community-calendar/family-purim-carnival-at-temple-israel-po
 rtsmouth-1644442774\n\nPlease join Temple Israel Portsmouth for a Family M
 ini-Carnival in the social hall. To help ensure social distancing\, famili
 es should please sign up for a time slot to play games before the Megillah
  Reading. https://www.signupgenius.com/go/10C0D4EADA82CA1F4C16-purim1 The 
 Tikkun Olam Committee will host a table where you can decorate a greeting 
 card to welcome an Afghan family to the Seacoast.
DTSTART;TZID=America/New_York:20220316T170000
DTEND;TZID=America/New_York:20220316T181500
END:VEVENT
END:VCALENDAR
