BEGIN:VCALENDAR
PRODID:-//eluceo/ical//2.0/EN
VERSION:2.0
CALSCALE:GREGORIAN
BEGIN:VEVENT
UID:8e90ba1dee97446a5bf9c3adaa63b8b7
DTSTAMP:20260422T035631Z
SUMMARY:Temple Beth Abraham Family Purim Celebration
DESCRIPTION:Jewish Federation of New Hampshire\nCommunity Calendar\nhttps:/
 /jewishnh.org/community-calendar/family-purim-celebration-1581445188\n\nCo
 me and join us for a family friendly Purim Celebration.\n\nFor more inform
 ation please check the Temple Beth Abraham website at https://www.tbanashu
 a.org/
DTSTART;TZID=America/New_York:20200309T183000
DTEND;TZID=America/New_York:20200309T193000
END:VEVENT
END:VCALENDAR
