BEGIN:VCALENDAR
PRODID:-//eluceo/ical//2.0/EN
VERSION:2.0
CALSCALE:GREGORIAN
BEGIN:VEVENT
UID:0989c6b0706baab71eb07df18f3c9f18
DTSTAMP:20260423T021643Z
SUMMARY:Temple Adath Yeshurun Family Service
DESCRIPTION:Jewish Federation of New Hampshire\nCommunity Calendar\nhttps:/
 /jewishnh.org/community-calendar/family-service-no-potluck-1560683366\n\nF
 amily Shabbat Service at Temple Adath Yeshurun\n\nNo Potluck
DTSTART;TZID=America/New_York:20190705T180000
DTEND;TZID=America/New_York:20190705T190000
END:VEVENT
END:VCALENDAR
