BEGIN:VCALENDAR
PRODID:-//eluceo/ical//2.0/EN
VERSION:2.0
CALSCALE:GREGORIAN
BEGIN:VEVENT
UID:5c5d4feff8d428b006701d45766f3525
DTSTAMP:20260424T061709Z
SUMMARY:Family Service (No Potluck)
DESCRIPTION:Jewish Federation of New Hampshire\nCommunity Calendar\nhttps:/
 /jewishnh.org/community-calendar/family-service-no-potluck-1560683523\n\nF
 amily Service at Temple Adath Yeshurun
DTSTART;TZID=America/New_York:20190802T180000
DTEND;TZID=America/New_York:20190802T190000
END:VEVENT
END:VCALENDAR
