BEGIN:VCALENDAR
PRODID:-//eluceo/ical//2.0/EN
VERSION:2.0
CALSCALE:GREGORIAN
BEGIN:VEVENT
UID:68855bce69e73966d57fbadd6edee5ae
DTSTAMP:20260423T043305Z
SUMMARY:Family Shabbat
DESCRIPTION:Jewish Federation of New Hampshire\nCommunity Calendar\nhttps:/
 /jewishnh.org/community-calendar/family-shabbat\n\nReservations are requir
 ed\, call Christine at 622-6171 or email office@templeisraelmht.org
DTSTART;TZID=America/New_York:20180713T180000
DTEND;TZID=America/New_York:20180713T190000
END:VEVENT
END:VCALENDAR
