BEGIN:VCALENDAR
PRODID:-//eluceo/ical//2.0/EN
VERSION:2.0
CALSCALE:GREGORIAN
BEGIN:VEVENT
UID:a735999993c3791c40ae27173a2968a7
DTSTAMP:20260422T223144Z
SUMMARY:Family Shabbat - Tu B'Shvat themed
DESCRIPTION:Jewish Federation of New Hampshire\nCommunity Calendar\nhttps:/
 /jewishnh.org/community-calendar/family-shabbat---tu-bshvat-themed-1704727
 776\n\nDon’t miss the wonderful\, spiritual and musical Shabbat prayer e
 xperience designed for children and adults\, led by Cantorial Soloist Davi
 d Rothberg. Join one of both services\, and stay for a free lunch! Invite 
 your friends and family to join us as well. Open to all!
DTSTART;TZID=America/New_York:20240120T093000
DTEND;TZID=America/New_York:20240120T120000
END:VEVENT
END:VCALENDAR
