BEGIN:VCALENDAR
PRODID:-//eluceo/ical//2.0/EN
VERSION:2.0
CALSCALE:GREGORIAN
BEGIN:VEVENT
UID:67374b09073b92eea29e50a0c7c9abd4
DTSTAMP:20260423T143455Z
SUMMARY:Temple Israel Family Shabbat & BBQ
DESCRIPTION:Jewish Federation of New Hampshire\nCommunity Calendar\nhttps:/
 /jewishnh.org/community-calendar/family-shabbat--bbq-1686848651\n\nShabbat
  service on the patio and BBQ provided by The Perfect Platter.
DTSTART;TZID=America/New_York:20230728T060000
DTEND;TZID=America/New_York:20230728T080000
END:VEVENT
END:VCALENDAR
