BEGIN:VCALENDAR
PRODID:-//eluceo/ical//2.0/EN
VERSION:2.0
CALSCALE:GREGORIAN
BEGIN:VEVENT
UID:b2f57dea8a2751b227918ac22a5866af
DTSTAMP:20260422T171319Z
SUMMARY:Temple Israel Family Shabbat & BBQ on the Patio
DESCRIPTION:Jewish Federation of New Hampshire\nCommunity Calendar\nhttps:/
 /jewishnh.org/community-calendar/family-shabbat--bbq-on-the-patio-16881529
 85\n\nJoin us on the patio to celebrate Shabbat and enjoy a delicious Kosh
 er BBQ.
DTSTART;TZID=America/New_York:20230818T180000
DTEND;TZID=America/New_York:20230818T200000
END:VEVENT
END:VCALENDAR
