BEGIN:VCALENDAR
PRODID:-//eluceo/ical//2.0/EN
VERSION:2.0
CALSCALE:GREGORIAN
BEGIN:VEVENT
UID:885446bf15280eaea764f395769e144c
DTSTAMP:20260423T072926Z
SUMMARY:Family Shabbat & Dinner with Rabbi Jen Tobenstein
DESCRIPTION:Jewish Federation of New Hampshire\nCommunity Calendar\nhttps:/
 /jewishnh.org/community-calendar/family-shabbat--dinner-with-rabbi-jen-tob
 enstein-1670936654\n\nA catered meal will follow Friday Shabbat led by Rab
 bi Jen Tobenstein with Cantor Marc Stober. An RSVP" is required by noon De
 c 30.
DTSTART;TZID=America/New_York:20230106T180000
DTEND;TZID=America/New_York:20230106T200000
END:VEVENT
END:VCALENDAR
