BEGIN:VCALENDAR
PRODID:-//eluceo/ical//2.0/EN
VERSION:2.0
CALSCALE:GREGORIAN
BEGIN:VEVENT
UID:a69eac3deaa951df3695c5e7bb6879ae
DTSTAMP:20260422T223154Z
SUMMARY:FAMILY SHABBAT & PIZZA DINNER AT ETZ HAYIM SYNAGOGUE
DESCRIPTION:Jewish Federation of New Hampshire\nCommunity Calendar\nhttps:/
 /jewishnh.org/community-calendar/family-shabbat--pizza-dinner-at-etz-hayim
 -synagogue-1705074619\n\nFamily Shabbat & Pizza Dinner at Etz Hayim Synago
 gue\nFriday\, February 16\nJoin us for pizza and salad at 5:30 PM\, follow
 ed by family services from 6:45 PM to 7:30 PM.  RSVP for pizza dinner is r
 equired by Sunday\, February 11 to Rabbi Levy at Rabbi@etzhayim.org.  Plea
 se indicate how many will be attending and if there are any dietary concer
 ns.  All are welcome!
DTSTART;TZID=America/New_York:20240216T173000
DTEND;TZID=America/New_York:20240216T193000
END:VEVENT
END:VCALENDAR
