BEGIN:VCALENDAR
PRODID:-//eluceo/ical//2.0/EN
VERSION:2.0
CALSCALE:GREGORIAN
BEGIN:VEVENT
UID:2ba525052562ed6a990f4060030e6cb8
DTSTAMP:20260423T044320Z
SUMMARY:Family Shabbat
DESCRIPTION:Jewish Federation of New Hampshire\nCommunity Calendar\nhttps:/
 /jewishnh.org/community-calendar/family-shabbat-1562710541\n\nFamily Shabb
 at service and meal. Reservations are required.
DTSTART;TZID=America/New_York:20190802T180000
DTEND;TZID=America/New_York:20190802T200000
END:VEVENT
END:VCALENDAR
