BEGIN:VCALENDAR
PRODID:-//eluceo/ical//2.0/EN
VERSION:2.0
CALSCALE:GREGORIAN
BEGIN:VEVENT
UID:a985a875e54760decfc925fcf969bc69
DTSTAMP:20260423T132403Z
SUMMARY:Temple Israel Family Shabbat
DESCRIPTION:Jewish Federation of New Hampshire\nCommunity Calendar\nhttps:/
 /jewishnh.org/community-calendar/family-shabbat-1565382673\n\nPlease join 
 us for Shabbat service and dinner!
DTSTART;TZID=America/New_York:20190913T180000
DTEND;TZID=America/New_York:20190913T210000
END:VEVENT
END:VCALENDAR
