BEGIN:VCALENDAR
PRODID:-//eluceo/ical//2.0/EN
VERSION:2.0
CALSCALE:GREGORIAN
BEGIN:VEVENT
UID:4c434616a1c8669676114203dc1df14c
DTSTAMP:20260424T113650Z
SUMMARY:Family Shabbat Service & Potluck Dinner.  Please bring a dish to sh
 are.
DESCRIPTION:Jewish Federation of New Hampshire\nCommunity Calendar\nhttps:/
 /jewishnh.org/community-calendar/family-shabbat-service--potluck-dinner--p
 lease-bring-a-dish-to-share-1560684246\n\nFamily Shabbat and Potluck Dinne
 r at Temple Adath Yeshurun
DTSTART;TZID=America/New_York:20191004T180000
DTEND;TZID=America/New_York:20191004T200000
END:VEVENT
END:VCALENDAR
