BEGIN:VCALENDAR
PRODID:-//eluceo/ical//2.0/EN
VERSION:2.0
CALSCALE:GREGORIAN
BEGIN:VEVENT
UID:9db1873f9e68bd7ac7d31a7133bad6a7
DTSTAMP:20260422T065612Z
SUMMARY:Family Shabbat Service & Potluck Dinner.  Please bring a dish to sh
 are.
DESCRIPTION:Jewish Federation of New Hampshire\nCommunity Calendar\nhttps:/
 /jewishnh.org/community-calendar/family-shabbat-service--potluck-dinner--p
 lease-bring-a-dish-to-share-1560685741\n\nFamily Shabbat and Potluck Dinne
 r at Temple Adath Yeshurun
DTSTART;TZID=America/New_York:20200103T180000
DTEND;TZID=America/New_York:20200103T200000
END:VEVENT
END:VCALENDAR
