BEGIN:VCALENDAR
PRODID:-//eluceo/ical//2.0/EN
VERSION:2.0
CALSCALE:GREGORIAN
BEGIN:VEVENT
UID:98eb14bf209dfe59a393f5cf5e580e1e
DTSTAMP:20260423T215200Z
SUMMARY:Family Shabbat Service & Potluck Dinner.  Please bring a dish to sh
 are.
DESCRIPTION:Jewish Federation of New Hampshire\nCommunity Calendar\nhttps:/
 /jewishnh.org/community-calendar/family-shabbat-service--potluck-dinner--p
 lease-bring-a-dish-to-share-1560687577\n\nFamily Shabbat and Potluck at Te
 mple Adath Yeshurun
DTSTART;TZID=America/New_York:20200403T180000
DTEND;TZID=America/New_York:20200403T200000
END:VEVENT
END:VCALENDAR
