BEGIN:VCALENDAR
PRODID:-//eluceo/ical//2.0/EN
VERSION:2.0
CALSCALE:GREGORIAN
BEGIN:VEVENT
UID:1fe98596fec032eca09ffde69626796a
DTSTAMP:20260422T192643Z
SUMMARY:Family Shabbat Service & Potluck Dinner.  Please bring a dish to sh
 are.
DESCRIPTION:Jewish Federation of New Hampshire\nCommunity Calendar\nhttps:/
 /jewishnh.org/community-calendar/family-shabbat-service--potluck-dinner--p
 lease-bring-a-dish-to-share-1560693845\n\nFamily Shabbat and Potluck Dinne
 r at Temple Adath Yeshurun
DTSTART;TZID=America/New_York:20200501T180000
DTEND;TZID=America/New_York:20200501T200000
END:VEVENT
END:VCALENDAR
