BEGIN:VCALENDAR
PRODID:-//eluceo/ical//2.0/EN
VERSION:2.0
CALSCALE:GREGORIAN
BEGIN:VEVENT
UID:aae88e5d974fe90754b727b43617546c
DTSTAMP:20260424T062125Z
SUMMARY:Family Shabbat Service & Potluck Dinner Please bring a dish to shar
 e.
DESCRIPTION:Jewish Federation of New Hampshire\nCommunity Calendar\nhttps:/
 /jewishnh.org/community-calendar/family-shabbat-service--potluck-dinner-pl
 ease-bring-a-dish-to-share-1560683999\n\nFamily Shabbat Service and Potluc
 k at Temple Adath Yeshurun
DTSTART;TZID=America/New_York:20190906T180000
DTEND;TZID=America/New_York:20190906T200000
END:VEVENT
END:VCALENDAR
