BEGIN:VCALENDAR
PRODID:-//eluceo/ical//2.0/EN
VERSION:2.0
CALSCALE:GREGORIAN
BEGIN:VEVENT
UID:4158fa3a6185b32c1706ecdd462f5625
DTSTAMP:20260422T132316Z
SUMMARY:Betenu Family Shabbat Service
DESCRIPTION:Jewish Federation of New Hampshire\nCommunity Calendar\nhttps:/
 /jewishnh.org/community-calendar/family-shabbat-service-1660680012\n\nFami
 ly friendly Shabbat Service
DTSTART;TZID=America/New_York:20220916T070000
DTEND;TZID=America/New_York:20220916T083000
END:VEVENT
END:VCALENDAR
