BEGIN:VCALENDAR
PRODID:-//eluceo/ical//2.0/EN
VERSION:2.0
CALSCALE:GREGORIAN
BEGIN:VEVENT
UID:acf80a746a44f7644efd7ed4810befb2
DTSTAMP:20260422T171045Z
SUMMARY:Temple Israel Family Shabbat Service and Dinner
DESCRIPTION:Jewish Federation of New Hampshire\nCommunity Calendar\nhttps:/
 /jewishnh.org/community-calendar/family-shabbat-service-and-dinner-1706640
 918\n\nJoin us for a family-friendly service and meal to celebrate Shabbat
 !
DTSTART;TZID=America/New_York:20240308T180000
DTEND;TZID=America/New_York:20240308T200000
END:VEVENT
END:VCALENDAR
