BEGIN:VCALENDAR
PRODID:-//eluceo/ical//2.0/EN
VERSION:2.0
CALSCALE:GREGORIAN
BEGIN:VEVENT
UID:995ddbf0ad5b8fce8f52d6dbf75eab66
DTSTAMP:20260422T130404Z
SUMMARY:Father's Day Shabbat
DESCRIPTION:Jewish Federation of New Hampshire\nCommunity Calendar\nhttps:/
 /jewishnh.org/community-calendar/fathers-day-shabbat\n\nFather's Day Shabb
 at\nJFNH Preschool\, Manchester
DTSTART;TZID=America/New_York:20180608T000000
DTEND;TZID=America/New_York:20180608T235959
END:VEVENT
END:VCALENDAR
